BEGIN:VCALENDAR
VERSION:2.0
PRODID:-//Land in Zicht - ECPv6.15.20//NONSGML v1.0//EN
CALSCALE:GREGORIAN
METHOD:PUBLISH
X-ORIGINAL-URL:https://landinzicht.net
X-WR-CALDESC:Evenementen voor Land in Zicht
REFRESH-INTERVAL;VALUE=DURATION:PT1H
X-Robots-Tag:noindex
X-PUBLISHED-TTL:PT1H
BEGIN:VTIMEZONE
TZID:Europe/Amsterdam
BEGIN:DAYLIGHT
TZOFFSETFROM:+0100
TZOFFSETTO:+0200
TZNAME:CEST
DTSTART:20250330T010000
END:DAYLIGHT
BEGIN:STANDARD
TZOFFSETFROM:+0200
TZOFFSETTO:+0100
TZNAME:CET
DTSTART:20251026T010000
END:STANDARD
BEGIN:DAYLIGHT
TZOFFSETFROM:+0100
TZOFFSETTO:+0200
TZNAME:CEST
DTSTART:20260329T010000
END:DAYLIGHT
BEGIN:STANDARD
TZOFFSETFROM:+0200
TZOFFSETTO:+0100
TZNAME:CET
DTSTART:20261025T010000
END:STANDARD
BEGIN:DAYLIGHT
TZOFFSETFROM:+0100
TZOFFSETTO:+0200
TZNAME:CEST
DTSTART:20270328T010000
END:DAYLIGHT
BEGIN:STANDARD
TZOFFSETFROM:+0200
TZOFFSETTO:+0100
TZNAME:CET
DTSTART:20271031T010000
END:STANDARD
END:VTIMEZONE
BEGIN:VEVENT
DTSTART;TZID=Europe/Amsterdam:20260213T090000
DTEND;TZID=Europe/Amsterdam:20260213T120000
DTSTAMP:20260423T023936
CREATED:20260120T143708Z
LAST-MODIFIED:20260129T132157Z
UID:8897-1770973200-1770984000@landinzicht.net
SUMMARY:Houtsnippers verspreiden - Tuinderij
DESCRIPTION:Kom je meedoen? Houtsnippers verspreiden in de Tuinderij! 🌿 \n\n\n\nNa onze gezellige bloembollenactie op Tuinpark Laakzijde hebben we weer iets moois om samen te doen:houtsnippers verspreiden over de Tuinderij bij Land in Zicht 💪 Mede mogelijk gemaakt met subsidie van gemeente Amersfoort. \n\n\n\nZin om lekker buiten te zijn\, je handen uit de mouwen te steken en tussendoor bij te praten?Sluit vooral aan wanneer het jou uitkomt. Alle hulp is welkom! \n\n\n\n🧤 Tip: neem werkhandschoenen mee als je die hebt📍 Tuinderij\, Land in Zicht\, Achterhoekerweg 19 te Amersfoort💬 Laat even weten dat je komt via tuinderij@landinzicht.net óf kom gewoon gezellig aanwaaien
URL:https://landinzicht.net/agenda/houtsnippers-tuinderij-activiteit/
CATEGORIES:Tuinieren
ATTACH;FMTTYPE=image/png:https://landinzicht.net/wp-content/uploads/2026/01/Houtsnippers-Tuinderij-Land-in-Zicht-Amersfoort.png
END:VEVENT
BEGIN:VEVENT
DTSTART;TZID=Europe/Amsterdam:20260221T110000
DTEND;TZID=Europe/Amsterdam:20260221T160000
DTSTAMP:20260423T023936
CREATED:20260120T102039Z
LAST-MODIFIED:20260120T102042Z
UID:8883-1771671600-1771689600@landinzicht.net
SUMMARY:Start Snoeicursus - Wijze Wortels
DESCRIPTION:Wil jij leren hoe je bessen en bramen snoeit op een natuurlijke manier\, zónder gif of kunstmest? In deze nieuwe snoeicursus ‘Bessen & Bramen’ leer je werken mét de plant en haar omgeving. \n\n\n\nWat gaan we doen in deze snoeicursus?\n\n\n\nDe cursus bestaat uit 3 bijeenkomsten\, waarin theorie en praktijk elkaar afwisselen. Er is volop ruimte voor vragen en vooral: zelf doen en ervaring opbouwen in de fruittuin. \n\n\n\n📎 Meer info: instagram.com/wijzewortels✉️ Aanmelden: info@wijzewortels.nlLet op: inschrijvingen voor de volledige cursus hebben voorrang t/m 14 februari 2026.
URL:https://landinzicht.net/agenda/snoeicursus-wijze-wortels-21feb/
CATEGORIES:Externe organisator,Tuinieren
ATTACH;FMTTYPE=image/png:https://landinzicht.net/wp-content/uploads/2026/01/Snoeicursus-Wijze-Wortels-fruittuin-Land-in-Zicht-Tuinderij-Amersfoort.png
END:VEVENT
END:VCALENDAR