BEGIN:VCALENDAR
VERSION:2.0
PRODID:-//Land in Zicht - ECPv6.15.20//NONSGML v1.0//EN
CALSCALE:GREGORIAN
METHOD:PUBLISH
X-WR-CALNAME:Land in Zicht
X-ORIGINAL-URL:https://landinzicht.net
X-WR-CALDESC:Evenementen voor Land in Zicht
REFRESH-INTERVAL;VALUE=DURATION:PT1H
X-Robots-Tag:noindex
X-PUBLISHED-TTL:PT1H
BEGIN:VTIMEZONE
TZID:Europe/Amsterdam
BEGIN:DAYLIGHT
TZOFFSETFROM:+0100
TZOFFSETTO:+0200
TZNAME:CEST
DTSTART:20220327T010000
END:DAYLIGHT
BEGIN:STANDARD
TZOFFSETFROM:+0200
TZOFFSETTO:+0100
TZNAME:CET
DTSTART:20221030T010000
END:STANDARD
BEGIN:DAYLIGHT
TZOFFSETFROM:+0100
TZOFFSETTO:+0200
TZNAME:CEST
DTSTART:20230326T010000
END:DAYLIGHT
BEGIN:STANDARD
TZOFFSETFROM:+0200
TZOFFSETTO:+0100
TZNAME:CET
DTSTART:20231029T010000
END:STANDARD
BEGIN:DAYLIGHT
TZOFFSETFROM:+0100
TZOFFSETTO:+0200
TZNAME:CEST
DTSTART:20240331T010000
END:DAYLIGHT
BEGIN:STANDARD
TZOFFSETFROM:+0200
TZOFFSETTO:+0100
TZNAME:CET
DTSTART:20241027T010000
END:STANDARD
BEGIN:DAYLIGHT
TZOFFSETFROM:+0100
TZOFFSETTO:+0200
TZNAME:CEST
DTSTART:20250330T010000
END:DAYLIGHT
BEGIN:STANDARD
TZOFFSETFROM:+0200
TZOFFSETTO:+0100
TZNAME:CET
DTSTART:20251026T010000
END:STANDARD
BEGIN:DAYLIGHT
TZOFFSETFROM:+0100
TZOFFSETTO:+0200
TZNAME:CEST
DTSTART:20260329T010000
END:DAYLIGHT
BEGIN:STANDARD
TZOFFSETFROM:+0200
TZOFFSETTO:+0100
TZNAME:CET
DTSTART:20261025T010000
END:STANDARD
END:VTIMEZONE
BEGIN:VEVENT
DTSTART;TZID=Europe/Amsterdam:20250925T193000
DTEND;TZID=Europe/Amsterdam:20250925T213000
DTSTAMP:20260420T230715
CREATED:20250909T144621Z
LAST-MODIFIED:20250923T083308Z
UID:8355-1758828600-1758835800@landinzicht.net
SUMMARY:Workshop Veldboeket plukken & schikken
DESCRIPTION:De workshop vindt dit jaar niet plaats\, maar we hopen je in de toekomst te verwelkomen bij een volgende editie. \n\n\n\n\nTijdens deze workshop ontvangen tuinders Aniek & Nienke je midden in de bloemenpluktuin in onze Tuinderij. \n\n\n\nDianne van Plukpracht leert je hoe je het beste zelf bloemen plukt en hoe je deze schikt als een echte bloemist. Je plukt zelf de bloemen die je mooi vindt. We vertellen je over het plukken van seizoensbloemen en geven tips over kleurgebruik en compositie. \n\n\n\n• Leer in 2 uur hoe je het beste seizoensbloemen plukt en ze schikt tot een schitterend veldboeket• Inclusief introductie Tuinderij Land in Zicht & de bloemenpluktuin \n\n\n\nNatuurlijk krijg je je zelfgemaakte veldboeket mee naar huisDatum: 25 septemberInloop: 19.15 uur\, start 19.30 uur (tot ca 21.15 uur)De workshop is inclusief alle materialen\, koffie/thee en iets lekkers
URL:https://landinzicht.net/agenda/workshop-veldboeket-25sept/
ATTACH;FMTTYPE=image/jpeg:https://landinzicht.net/wp-content/uploads/2025/09/Workshop-veldboeket-plukken-schikken.jpg
END:VEVENT
BEGIN:VEVENT
DTSTART;TZID=Europe/Amsterdam:20240912T173000
DTEND;TZID=Europe/Amsterdam:20240912T200000
DTSTAMP:20260420T230715
CREATED:20240827T134722Z
LAST-MODIFIED:20240827T134724Z
UID:7040-1726162200-1726171200@landinzicht.net
SUMMARY:Plukavond in onze Tuinderij
DESCRIPTION:De tuin staat nu vol met prachtige bloemen\, en dit is hét moment om er volop van te genieten. Kom naar onze plukavond\, waar je zelf een kleurrijk boeket kunt samenstellen met bloemen die je direct uit onze bloementuin plukt. 💐 \n\n\n\nWaarom deelnemen aan deze plukavond? We organiseren deze avond speciaal zodat je kunt genieten van de natuur in al haar pracht\, juist nu de bloemen op hun mooist zijn. Bovendien willen we samen met jou nog even stilstaan bij het lange natuurlicht voordat het snel weer vroeg donker wordt. \n\n\n\nTijdens de plukavond is ook ons Theehuis geopend. Na het plukken kun je daar rustig genieten van een kopje thee en iets lekkers\, terwijl je de sfeervolle omgeving in je opneemt. \n\n\n\nDeze plukavond is ideaal om na een drukke dag nog even tot rust te komen. Of je nu na je werk of na het avondeten komt\, het is een perfecte gelegenheid om jezelf te omringen met de kleuren en geuren van de tuinderij op Tuinpark Laakzijde. Neem een stukje zomer mee naar huis met je zelfgeplukte bloemen en beleef een avond vol ontspanning en natuurbeleving. \n\n\n\nMis deze unieke plukavond niet! Meld je aan en ontdek zelf de magie van onze bloeiende tuin. \n\n\n\n \n\n\n\nWist je dat onze plukavond nog meer effect heeft?\n\n\n\nNa een lange werkdag buiten zijn geeft je lichaam een verfrissende boost. Frisse lucht en beweging zorgen ervoor dat je stressniveau daalt en je hoofd weer helder wordt. Door buiten te zijn\, maakt je lichaam endorfines aan\, wat zorgt voor een gevoel van ontspanning en welzijn. Het natuurlijke daglicht helpt ook je biologische klok in balans te houden\, waardoor je ’s avonds beter slaapt. Even actief bezig zijn in de natuur na je werk zorgt niet alleen voor rust in je hoofd\, maar geeft je ook nieuwe energie.
URL:https://landinzicht.net/agenda/plukavond-in-de-tuinderij/
CATEGORIES:Tuinieren
ATTACH;FMTTYPE=image/jpeg:https://landinzicht.net/wp-content/uploads/2024/08/bloemen-tuinderij-oranjepracht-scaled.jpeg
END:VEVENT
BEGIN:VEVENT
DTSTART;TZID=Europe/Amsterdam:20240831T100000
DTEND;TZID=Europe/Amsterdam:20240831T120000
DTSTAMP:20260420T230715
CREATED:20240701T122606Z
LAST-MODIFIED:20240827T113222Z
UID:4945-1725098400-1725105600@landinzicht.net
SUMMARY:Wekelijkse zaterdag meewerkochtend op de Tuinderij
DESCRIPTION:Bij de Tuinderij van Land in Zicht nodigen we je uit om deel te nemen aan onze meewerkochtend\, waar je de kans krijgt om lekker je handen uit de mouwen te steken en tegelijkertijd je hoofd leeg te maken. Onder begeleiding van onze ervaren tuinder ga je aan de slag in onze prachtige kruidentuin\, bloemenpluktuin of in de groentebedden. Het is een geweldige gelegenheid om actief betrokken te zijn bij het cultiveren van de natuur en om meer te leren over duurzame landbouwpraktijken. \nDe eerste editie van onze meewerkochtend vindt plaats op 25 mei en de laatste op 2 november.Van 10.00 -12.00 uur\, met een korte pauze tussen 10.50 en 11.10 uur. \nHet enige wat je nodig hebt is kleding en schoenen die vies mogen worden\, omdat we graag zien dat je je comfortabel voelt tijdens het werken in de buitenlucht. De mensen van de Tuinderij zorgen voor al het benodigde gereedschap\, zodat je meteen aan de slag kunt. Bovendien zijn kinderen van harte welkom om mee te doen\, onder begeleiding van een volwassene. Het is een geweldige manier om samen met je gezin quality time door te brengen terwijl je iets positiefs bijdraagt aan de gemeenschap én aan de natuur. \nWe kijken ernaar uit om je te verwelkomen op onze meewerkochtend op de Tuinderij en om samen te genieten van een inspirerende en verrijkende ervaring in de natuur! \nTot dan!
URL:https://landinzicht.net/agenda/meewerkochtend-op-de-tuinderij-4/
CATEGORIES:Tuinieren
ATTACH;FMTTYPE=image/jpeg:https://landinzicht.net/wp-content/uploads/2023/03/Met-de-fiets-naar-de-tuinderij.jpg
END:VEVENT
BEGIN:VEVENT
DTSTART;TZID=Europe/Amsterdam:20240615T103000
DTEND;TZID=Europe/Amsterdam:20240615T160000
DTSTAMP:20260420T230715
CREATED:20240423T130827Z
LAST-MODIFIED:20240423T130830Z
UID:6732-1718447400-1718467200@landinzicht.net
SUMMARY:Open Dag bij Land in Zicht op Tuinpark Laakzijde
DESCRIPTION:Op zaterdag 15 juni organiseren we een Open Dag op Tuinpark Laakzijde!  \n\n\n\nDeze open dag is niet zomaar een evenement – we willen ons tuinpark op de kaart zetten\, vieren dat we al 10 jaar “Land in Zicht” hebben en iedereen onze toffe locatie laten zien.Het belooft een dag vol plezier\, ontdekkingen en samenzijn te worden\, en we willen dat jullie er allemaal bij zijn!  \n\n\n\nOf je nu een ervaren tuinier bent\, een natuurliefhebber\, of gewoon op zoek bent naar een leuk dag uit\, er is voor ieder wat wils tijdens onze open dag. We zorgen voor vermaak voor jong en oud. Denk aan muziek\, poppentheater\, bloemen plukken\, educatieve films\, rondleidingen\, en ga maar door…  \n\n\n\nDus\, noteer zaterdag 15 juni in je agenda en bereid je voor op een dag vol feestelijkheden\, ontdekkingen en nieuwe mogelijkheden op Tuinpark Laakzijde. Samen maken we er een onvergetelijke dag van! 
URL:https://landinzicht.net/agenda/open-dag-bij-land-in-zicht/
ATTACH;FMTTYPE=image/png:https://landinzicht.net/wp-content/uploads/2024/04/Land-in-Zicht-bovenaanzicht-1.png
END:VEVENT
BEGIN:VEVENT
DTSTART;TZID=Europe/Amsterdam:20240413T110000
DTEND;TZID=Europe/Amsterdam:20240413T150000
DTSTAMP:20260420T230715
CREATED:20240325T122757Z
LAST-MODIFIED:20240410T093327Z
UID:6570-1713006000-1713020400@landinzicht.net
SUMMARY:Plantjesdag is terug!
DESCRIPTION:Kom en ontdek de wereld van groen op onze plantjesdag op 13 april van 11.00 – 15.00 uur. Ontdek de kraampjes vol jonge plantjes voor buiten en heerlijke kruiden voor in je eigen keuken. Laat je zintuigen prikkelen door de geuren van basilicum\, munt en tijm\, terwijl je geniet van het gezellige samenzijn met je gezin en buurtgenoten. Ook Moestuin vereniging Laakzijde is aanwezig met eigen plantjes en kruiden\, oftewel genoeg variatie.Op deze dag draait het niet alleen om het vinden van de perfecte plant voor je tuin of vensterbank\, maar ook om het ondersteunen van lokale telers en het versterken van de gemeenschap. Elk plantje dat je hier vindt\, vertelt een verhaal van ambacht en passie\, en draagt bij aan een duurzamere toekomst voor onze buurt.Of je nu een ervaren tuinier bent of net begint aan je groene avontuur\, iedereen is welkom op onze markt. Laat je inspireren door de vele mogelijkheden en ga naar huis met een stukje groen geluk om te koesteren. Dus kom langs\, breng je buren mee en laten we samen onze wijk groener maken\, één plantje tegelijk. Tot ziens op de plantjesmarkt bij Land in Zicht\, waar groei en gemeenschap hand in hand gaan! \n\n\n\n \n\n\n\nTIP: vergeet niet zelf kratjes of doosjes mee te nemen om je plantgoed in te vervoeren naar je eigen tuin 😃
URL:https://landinzicht.net/agenda/plantjesdag-13april/
ATTACH;FMTTYPE=image/jpeg:https://landinzicht.net/wp-content/uploads/2024/03/Plantjesdag-Land-in-Zicht-scaled.jpeg
END:VEVENT
BEGIN:VEVENT
DTSTART;TZID=Europe/Amsterdam:20231104T100000
DTEND;TZID=Europe/Amsterdam:20231104T120000
DTSTAMP:20260420T230715
CREATED:20230711T110934Z
LAST-MODIFIED:20240123T150813Z
UID:4942-1699092000-1699099200@landinzicht.net
SUMMARY:Maandelijkse meewerkochtend op de tuinderij
DESCRIPTION:Op de meewerkochtend bij Tuinderij Land in Zicht steek je lekker even je handen uit de mouwen en maak je vanzelf je hoofd leeg. Onder leiding van de tuinder ga je aan de slag in de kruidentuin\, bloemenpluktuin of in de groentebedden. Trek kleding en schoenen aan die vies mogen worden. Gereedschap is aanwezig. Kinderen zijn van harte welkom\, onder begeleiding van een volwassene. \nTot dan!
URL:https://landinzicht.net/agenda/maandelijkse-meewerkochtend-op-de-tuinderij-2/
LOCATION:Tuinpark Laakzijde\, Achterhoekerweg 21\, Amersfoort\, Utrecht\, 3826 NA
CATEGORIES:Tuinieren
ATTACH;FMTTYPE=image/jpeg:https://landinzicht.net/wp-content/uploads/2023/05/PXL_20230520_070703239-scaled.jpg
END:VEVENT
END:VCALENDAR