BEGIN:VCALENDAR
VERSION:2.0
PRODID:-//Land in Zicht - ECPv6.15.20//NONSGML v1.0//EN
CALSCALE:GREGORIAN
METHOD:PUBLISH
X-WR-CALNAME:Land in Zicht
X-ORIGINAL-URL:https://landinzicht.net
X-WR-CALDESC:Evenementen voor Land in Zicht
REFRESH-INTERVAL;VALUE=DURATION:PT1H
X-Robots-Tag:noindex
X-PUBLISHED-TTL:PT1H
BEGIN:VTIMEZONE
TZID:Europe/Amsterdam
BEGIN:DAYLIGHT
TZOFFSETFROM:+0100
TZOFFSETTO:+0200
TZNAME:CEST
DTSTART:20230326T010000
END:DAYLIGHT
BEGIN:STANDARD
TZOFFSETFROM:+0200
TZOFFSETTO:+0100
TZNAME:CET
DTSTART:20231029T010000
END:STANDARD
BEGIN:DAYLIGHT
TZOFFSETFROM:+0100
TZOFFSETTO:+0200
TZNAME:CEST
DTSTART:20240331T010000
END:DAYLIGHT
BEGIN:STANDARD
TZOFFSETFROM:+0200
TZOFFSETTO:+0100
TZNAME:CET
DTSTART:20241027T010000
END:STANDARD
BEGIN:DAYLIGHT
TZOFFSETFROM:+0100
TZOFFSETTO:+0200
TZNAME:CEST
DTSTART:20250330T010000
END:DAYLIGHT
BEGIN:STANDARD
TZOFFSETFROM:+0200
TZOFFSETTO:+0100
TZNAME:CET
DTSTART:20251026T010000
END:STANDARD
END:VTIMEZONE
BEGIN:VEVENT
DTSTART;TZID=Europe/Amsterdam:20241206T193000
DTEND;TZID=Europe/Amsterdam:20241206T210000
DTSTAMP:20260422T153906
CREATED:20241129T130531Z
LAST-MODIFIED:20241129T130534Z
UID:7326-1733513400-1733518800@landinzicht.net
SUMMARY:Bewustzijnsconcert - Michiel Buursen
DESCRIPTION:Land in Zicht ontvangt een uniek muzikaal evenement in de  Zaal van de Hoeve\, een betoverend bewustzijnsconcert van Michiel Buursen. Deze avond staat in het teken van vertraging\, verstilling en harmonieuze muziek die de luisteraar meeneemt naar een diepere laag van ontspanning en innerlijke rust. \n\n\n\nMuziek die Verbindt en Ontspant\n\n\n\nMichiel Buursen combineert recitatieve motieven en meerstemmige harmonieën met intuïtieve klanken die het hart raken. Tijdens dit concert komen de volgende instrumenten en muzikale elementen samen: \n\n\n\n\nPiano\, harpejji en synthesizer soundscapes voor een gelaagd en verhalend klankbeeld.\n\n\n\nKlankschalen en koshis (windgongs) die resoneren met de stilte en ruimte van de omgeving.\n\n\n\nInvloeden uit klassieke muziek\, jazz en diverse wereldmuziektradities\, van Europa tot Azië.\n\n\n\n\nDe muziek wordt uitgevoerd in de rustgevende frequentie van 432 Hz en in Pythagorese stemming\, wat bekend staat om zijn harmoniserende en helende eigenschappen. \n\n\n\nEen Introspectieve Klankreis\n\n\n\nMichiel Buursen nodigt aanwezigen uit om in stilte aanwezig te zijn en een innerlijke reis te maken. De muziek ontstaat intuïtief en is afgestemd op de energie van het moment\, waarbij stilte en klank naadloos in elkaar overgaan. Deze anderhalf uur durende ervaring biedt een diepgaand klankbad dat uitnodigt tot reflectie\, ontspanning en een gevoel van verbondenheid. \n\n\n\nOver de Zaal van de Hoeve\n\n\n\nDe Zaal van de Hoeve\, gelegen bij Land in Zicht\, vormt het perfecte decor voor dit bijzondere concert. De intieme en rustgevende sfeer van de locatie versterkt de impact van de muziek en biedt ruimte voor een unieke ervaring. \n\n\n\nPraktische Informatie\n\n\n\nDit concert is ideaal voor wie op zoek is naar een moment van verstilling\, ontspanning en inspiratie. Het evenement is geschikt voor zowel muziekliefhebbers als voor iedereen die verdieping en rust wil ervaren in een bijzondere setting. \n\n\n\nVoor meer informatie en reserveringen kan contact worden opgenomen met Michiel Buursen.
URL:https://landinzicht.net/agenda/bewustzijnsconcert-michiel-buursen/
CATEGORIES:Externe organisator
ATTACH;FMTTYPE=image/jpeg:https://landinzicht.net/wp-content/uploads/2024/11/michiel-buursen.jpg
END:VEVENT
END:VCALENDAR